BEGIN:VCALENDAR
VERSION:2.0
PRODID:-//Gemeinde Theisseil - ECPv6.15.12.2//NONSGML v1.0//EN
CALSCALE:GREGORIAN
METHOD:PUBLISH
X-ORIGINAL-URL:https://theisseil.de
X-WR-CALDESC:Veranstaltungen für Gemeinde Theisseil
REFRESH-INTERVAL;VALUE=DURATION:PT1H
X-Robots-Tag:noindex
X-PUBLISHED-TTL:PT1H
BEGIN:VTIMEZONE
TZID:UTC
BEGIN:STANDARD
TZOFFSETFROM:+0000
TZOFFSETTO:+0000
TZNAME:UTC
DTSTART:20250101T000000
END:STANDARD
END:VTIMEZONE
BEGIN:VEVENT
DTSTART;TZID=UTC:20260425T150000
DTEND;TZID=UTC:20260425T180000
DTSTAMP:20260425T153320
CREATED:20260126T100016Z
LAST-MODIFIED:20260126T100016Z
UID:11516-1777129200-1777140000@theisseil.de
SUMMARY:Kinder- und Jugendprogramm: Frühlingserwachen im "Schlupfwinkel"
DESCRIPTION:Getränke mitbringen – wir kochen gemeinsam im Topf über dem Feuer. Anmeldung bis 18.04. bei Martina oder Beate.
URL:https://theisseil.de/terminkalender/kinder-und-jugendprogramm-fruehlingserwachen-im-schlupfwinkel-2/
LOCATION:Erlebnisgarten Schlupfwinkel\, Hochstraße\, Letzau
END:VEVENT
BEGIN:VEVENT
DTSTART;TZID=UTC:20260430T180000
DTEND;TZID=UTC:20260430T230000
DTSTAMP:20260425T153320
CREATED:20260315T170507Z
LAST-MODIFIED:20260315T170714Z
UID:11751-1777572000-1777590000@theisseil.de
SUMMARY:Maibaum aufstellen der KLJB Letzau
DESCRIPTION:ab 18 Uhr vor dem Gemeindehaus Letzau – alle starken Männer der Ortschaft werden gebeten\, beim aufstellen des Maibaums mit anzupacken. Für Speis und Trank ist bestens gesorgt.
URL:https://theisseil.de/terminkalender/maibaum-aufstellen-der-kljb-letzau-2/
LOCATION:Gemeindehaus Letzau
ATTACH;FMTTYPE=image/jpeg:https://theisseil.de/wp-content/uploads/2025/03/Maibaum-Flyer-2025-scaled.jpg
END:VEVENT
BEGIN:VEVENT
DTSTART;TZID=UTC:20260430T190000
DTEND;TZID=UTC:20260430T230000
DTSTAMP:20260425T153320
CREATED:20260422T052735Z
LAST-MODIFIED:20260422T052735Z
UID:11862-1777575600-1777590000@theisseil.de
SUMMARY:Maibaumfest für die ganze Familie in Remmelberg
DESCRIPTION:
URL:https://theisseil.de/terminkalender/maibaumfest-fuer-die-ganze-familie-in-remmelberg/
LOCATION:Spielplatz Remmelberg\, Remmelberg 6\, Remmelberg\, Bayern\, 92637\, Germany
ATTACH;FMTTYPE=image/jpeg:https://theisseil.de/wp-content/uploads/2026/04/PHOTO-2026-04-21-20-14-57.jpg
END:VEVENT
BEGIN:VEVENT
DTSTART;TZID=UTC:20260502T100000
DTEND;TZID=UTC:20260502T120000
DTSTAMP:20260425T153320
CREATED:20260110T184537Z
LAST-MODIFIED:20260110T184537Z
UID:11368-1777716000-1777723200@theisseil.de
SUMMARY:FF Roschau - Arbeitsdienst
DESCRIPTION:
URL:https://theisseil.de/terminkalender/ff-roschau-arbeitsdienst-3/
LOCATION:Feuerwehrhaus Roschau\, Roschau 20\, Theisseil\, 92637\, Deutschland
ORGANIZER;CN="Feuerwehr Roschau":MAILTO:info@feuerwehr-roschau.de
END:VEVENT
BEGIN:VEVENT
DTSTART;TZID=UTC:20260504T183000
DTEND;TZID=UTC:20260504T220000
DTSTAMP:20260425T153320
CREATED:20260126T085327Z
LAST-MODIFIED:20260420T080708Z
UID:11491-1777919400-1777932000@theisseil.de
SUMMARY:FF Letzau - Floriansfeier
DESCRIPTION:Die Einladung erfolgt an die Mitglieder per Email / Post.
URL:https://theisseil.de/terminkalender/ff-letzau-floriansfeier/
LOCATION:Feuerwehrhaus Letzau
END:VEVENT
BEGIN:VEVENT
DTSTART;TZID=UTC:20260504T190000
DTEND;TZID=UTC:20260504T220000
DTSTAMP:20260425T153320
CREATED:20260110T184625Z
LAST-MODIFIED:20260110T184625Z
UID:11370-1777921200-1777932000@theisseil.de
SUMMARY:FF Roschau - Übung
DESCRIPTION:Übung: Kleinbrandbekämpfung
URL:https://theisseil.de/terminkalender/ff-roschau-uebung-3/
LOCATION:Feuerwehrhaus Roschau\, Roschau 20\, Theisseil\, 92637\, Deutschland
ORGANIZER;CN="Feuerwehr Roschau":MAILTO:info@feuerwehr-roschau.de
END:VEVENT
BEGIN:VEVENT
DTSTART;TZID=UTC:20260505T190000
DTEND;TZID=UTC:20260505T210000
DTSTAMP:20260425T153320
CREATED:20260202T184823Z
LAST-MODIFIED:20260202T184823Z
UID:11592-1778007600-1778014800@theisseil.de
SUMMARY:FF Edeldorf - Übung Ansaugen aus Wasserbehälter (P)
DESCRIPTION:Treffpunkt am Feuerwehrgerätehaus
URL:https://theisseil.de/terminkalender/ff-edeldorf-uebung-ansaugen-aus-wasserbehaelter-p/
LOCATION:Feuerwehrhaus Wilchenreuth\, Wilchenreuth 6\, Theisseil\, Bayern\, 92637\, Deutschland
END:VEVENT
BEGIN:VEVENT
DTSTART;TZID=UTC:20260507T180000
DTEND;TZID=UTC:20260507T220000
DTSTAMP:20260425T153320
CREATED:20251210T123412Z
LAST-MODIFIED:20251210T123412Z
UID:11144-1778176800-1778191200@theisseil.de
SUMMARY:KDFB Letzau: Maiandacht und Muttertagsfeier
DESCRIPTION:Maiandacht um 18:00 Uhr in der Mutter-Anna Kirche auf dem Mühlberg bei Neustadt – anschl. Muttertagsfeier in der Stadthalle Neustadt. Anmeldung bei Rita Kammerer Tel. 43267 oder Martina Heimann Tel. 0160-96419092
URL:https://theisseil.de/terminkalender/kdfb-letzau-maiandacht-und-muttertagsfeier/
END:VEVENT
BEGIN:VEVENT
DTSTART;TZID=UTC:20260508T183000
DTEND;TZID=UTC:20260508T200000
DTSTAMP:20260425T153320
CREATED:20251108T150704Z
LAST-MODIFIED:20251108T150704Z
UID:10846-1778265000-1778270400@theisseil.de
SUMMARY:Biathlon - SG Edelweiß Letzau
DESCRIPTION:von 18:30-20:00 Uhr / bei schlechtem Wetter Maischießen
URL:https://theisseil.de/terminkalender/biathlon-sg-edelweiss-letzau/
LOCATION:DJK-Sportheim Letzau
END:VEVENT
BEGIN:VEVENT
DTSTART;VALUE=DATE:20260509
DTEND;VALUE=DATE:20260510
DTSTAMP:20260425T153320
CREATED:20260126T100142Z
LAST-MODIFIED:20260126T100142Z
UID:11518-1778284800-1778371199@theisseil.de
SUMMARY:Kinder- und Jugendprogramm: Ein Nachmittag mit der Burgwartin auf der Burg Leuchtenberg
DESCRIPTION:für Kinder von 6 bis 10 Jahren / Abfahrt am Gemeindehaus Letzau. Anmeldung bis 26.04.26 bei Beate oder Martina. Kosten 10€ – wetterabhängig!
URL:https://theisseil.de/terminkalender/kinder-und-jugendprogramm-ein-nachmittag-mit-der-burgwartin-auf-der-burg-leuchtenberg/
END:VEVENT
BEGIN:VEVENT
DTSTART;TZID=UTC:20260509T140000
DTEND;TZID=UTC:20260509T170000
DTSTAMP:20260425T153320
CREATED:20260310T091248Z
LAST-MODIFIED:20260310T091248Z
UID:11738-1778335200-1778346000@theisseil.de
SUMMARY:Pflanzenbörse der Siedlergemeinschaft Theisseil
DESCRIPTION:Am Samstag\, 09.05.2026 – Die Siedlergemeinschaft Theisseil bittet um Pflanzenspenden. Bitte gerne vorab ein paar Pflanzen einplanen und somit helfen\, die Gemeinschaft zu unterstützen!
URL:https://theisseil.de/terminkalender/pflanzenboerse-der-siedlergemeinschaft-theisseil-3/
END:VEVENT
BEGIN:VEVENT
DTSTART;TZID=UTC:20260513T193000
DTEND;TZID=UTC:20260513T220000
DTSTAMP:20260425T153320
CREATED:20260416T131055Z
LAST-MODIFIED:20260416T131055Z
UID:11844-1778700600-1778709600@theisseil.de
SUMMARY:Konstituierende Sitzung des Gemeinderates (öffentlich)
DESCRIPTION:Öffentliche Gemeinderatsitzung im Gemeindehaus Letzau / Sitzungszimmer\nTagesordnung finden Sie hier: Bürgerinformationssystem – Verwaltungsgemeinschaft Neustadt a.d.Waldnaab (kommune-aktiv.de)
URL:https://theisseil.de/terminkalender/konstituierende-sitzung-des-gemeinderates-oeffentlich/
LOCATION:Gemeindehaus Letzau
END:VEVENT
BEGIN:VEVENT
DTSTART;TZID=UTC:20260514T100000
DTEND;TZID=UTC:20260514T220000
DTSTAMP:20260425T153320
CREATED:20260222T200614Z
LAST-MODIFIED:20260421T130304Z
UID:11681-1778752800-1778796000@theisseil.de
SUMMARY:Traditionelles Vatertagsfest der DJK Letzau
DESCRIPTION:ab 10:00 Uhr am Dorfweiher in Letzau – wie gewohnt\, ganztägige Bewirtung
URL:https://theisseil.de/terminkalender/traditionelles-vatertagsfest-der-djk-letzau/
LOCATION:Feuerwehrhaus Letzau
ATTACH;FMTTYPE=image/jpeg:https://theisseil.de/wp-content/uploads/2026/02/PHOTO-2026-04-21-09-33-09.jpg
END:VEVENT
BEGIN:VEVENT
DTSTART;TZID=UTC:20260516T140000
DTEND;TZID=UTC:20260516T190000
DTSTAMP:20260425T153320
CREATED:20260423T051202Z
LAST-MODIFIED:20260423T051223Z
UID:11865-1778940000-1778958000@theisseil.de
SUMMARY:Sommerfest der Kindertagesstätte Löwenzahn
DESCRIPTION:
URL:https://theisseil.de/terminkalender/sommerfest-im-kindergarten-loewenzahn/
LOCATION:Johanniter-Kindertagesstätte Löwenzahn\, Unterer Berg 1\, Letzau\, 92637
END:VEVENT
BEGIN:VEVENT
DTSTART;TZID=UTC:20260518T190000
DTEND;TZID=UTC:20260518T210000
DTSTAMP:20260425T153320
CREATED:20260126T085415Z
LAST-MODIFIED:20260126T085415Z
UID:11493-1779130800-1779138000@theisseil.de
SUMMARY:FF Letzau - Übung Flächenbrand
DESCRIPTION:Treffpunkt Feuerwehrgerätehaus
URL:https://theisseil.de/terminkalender/ff-letzau-uebung-flaechenbrand/
LOCATION:Feuerwehrhaus Letzau
END:VEVENT
BEGIN:VEVENT
DTSTART;TZID=UTC:20260522T180000
DTEND;TZID=UTC:20260523T090000
DTSTAMP:20260425T153320
CREATED:20260126T100316Z
LAST-MODIFIED:20260126T100316Z
UID:11520-1779472800-1779526800@theisseil.de
SUMMARY:Kinder- und Jugendprogramm: Lese- und Spielenacht
DESCRIPTION:von 7 bis 11 Jahren – im Gemeindehaus Letzau. \nWir beginnen wieder mit einem gemeinsamen Abendessen. Anmeldung bei Martina oder Beate bis 15.05.
URL:https://theisseil.de/terminkalender/kinder-und-jugendprogramm-lese-und-spielenacht/
LOCATION:Gemeindehaus Letzau
END:VEVENT
BEGIN:VEVENT
DTSTART;TZID=UTC:20260531T090000
DTEND;TZID=UTC:20260531T130000
DTSTAMP:20260425T153320
CREATED:20251203T174438Z
LAST-MODIFIED:20251203T174438Z
UID:11082-1780218000-1780232400@theisseil.de
SUMMARY:Dreifaltigkeitsfest an der Kapelle in Muglhof durch den OWV Theisseil-Muglhof
DESCRIPTION:
URL:https://theisseil.de/terminkalender/dreifaltigkeitsfest-an-der-kapelle-in-muglhof-durch-den-owv-theisseil-muglhof/
LOCATION:Dreifaltigkeitskapelle in Muglhof\, Muglhof\, Weiden - OT Muglhof\, 92637
END:VEVENT
BEGIN:VEVENT
DTSTART;TZID=UTC:20260601T100000
DTEND;TZID=UTC:20260601T120000
DTSTAMP:20260425T153320
CREATED:20260110T184710Z
LAST-MODIFIED:20260110T184710Z
UID:11372-1780308000-1780315200@theisseil.de
SUMMARY:FF Roschau - Übung
DESCRIPTION:Übung Löschangriff – Wasserentnahme offenes Gew.
URL:https://theisseil.de/terminkalender/ff-roschau-uebung-4/
LOCATION:Feuerwehrhaus Roschau\, Roschau 20\, Theisseil\, 92637\, Deutschland
ORGANIZER;CN="Feuerwehr Roschau":MAILTO:info@feuerwehr-roschau.de
END:VEVENT
BEGIN:VEVENT
DTSTART;TZID=UTC:20260602T190000
DTEND;TZID=UTC:20260602T210000
DTSTAMP:20260425T153320
CREATED:20260202T184940Z
LAST-MODIFIED:20260202T184940Z
UID:11594-1780426800-1780434000@theisseil.de
SUMMARY:FF Edeldorf - Übung Verkehrsabsicherung\, Einsatz von Ölbindern (P)
DESCRIPTION:Treffpunkt Feuerwehrgerätehaus
URL:https://theisseil.de/terminkalender/ff-edeldorf-uebung-verkehrsabsicherung-einsatz-von-oelbindern-p/
LOCATION:Feuerwehrhaus Wilchenreuth\, Wilchenreuth 6\, Theisseil\, Bayern\, 92637\, Deutschland
END:VEVENT
BEGIN:VEVENT
DTSTART;TZID=UTC:20260604T080000
DTEND;TZID=UTC:20260604T120000
DTSTAMP:20260425T153320
CREATED:20251210T123554Z
LAST-MODIFIED:20251210T123554Z
UID:11146-1780560000-1780574400@theisseil.de
SUMMARY:Fronleichnam in Letzau
DESCRIPTION:08:00 Uhr Gottesdienst – anschließend Fronleichnamsprozession durch Letzau – im Anschluss Frühschoppen und Mittagessen im Gemeindehaus. Veranstalter: Kath. Kirche Letzau und KDFB Letzau
URL:https://theisseil.de/terminkalender/fronleichnam-in-letzau-3/
LOCATION:Gemeindehaus Letzau
END:VEVENT
BEGIN:VEVENT
DTSTART;TZID=UTC:20260605T150000
DTEND;TZID=UTC:20260605T170000
DTSTAMP:20260425T153320
CREATED:20260126T100506Z
LAST-MODIFIED:20260126T100506Z
UID:11522-1780671600-1780678800@theisseil.de
SUMMARY:Kinder- und Jugendprogramm: Farbenfest für die Kleinsten
DESCRIPTION:Plantschen für die Kleinen\, Kaffee und Kuchen für die Begleitpersonen. Treffpunkt im Schlupfwinkel in Letzau. Anmeldung bei Beate oder Martina bis 28.05.
URL:https://theisseil.de/terminkalender/kinder-und-jugendprogramm-farbenfest-fuer-die-kleinsten-2/
LOCATION:Erlebnisgarten Schlupfwinkel\, Hochstraße\, Letzau
END:VEVENT
BEGIN:VEVENT
DTSTART;TZID=UTC:20260608T190000
DTEND;TZID=UTC:20260608T210000
DTSTAMP:20260425T153320
CREATED:20260126T085518Z
LAST-MODIFIED:20260126T085518Z
UID:11495-1780945200-1780952400@theisseil.de
SUMMARY:FF Letzau - Einsatzübung mit der FF Muglhof
DESCRIPTION:Treffpunkt Feuerwehrgerätehaus
URL:https://theisseil.de/terminkalender/ff-letzau-einsatzuebung-mit-der-ff-muglhof/
LOCATION:Feuerwehrhaus Letzau
END:VEVENT
BEGIN:VEVENT
DTSTART;TZID=UTC:20260613T100000
DTEND;TZID=UTC:20260613T123000
DTSTAMP:20260425T153320
CREATED:20260110T184744Z
LAST-MODIFIED:20260110T184744Z
UID:11374-1781344800-1781353800@theisseil.de
SUMMARY:FF Roschau - Arbeitsdienst
DESCRIPTION:
URL:https://theisseil.de/terminkalender/ff-roschau-arbeitsdienst-4/
LOCATION:Feuerwehrhaus Roschau\, Roschau 20\, Theisseil\, 92637\, Deutschland
ORGANIZER;CN="Feuerwehr Roschau":MAILTO:info@feuerwehr-roschau.de
END:VEVENT
BEGIN:VEVENT
DTSTART;TZID=UTC:20260619T183000
DTEND;TZID=UTC:20260619T200000
DTSTAMP:20260425T153320
CREATED:20251108T150753Z
LAST-MODIFIED:20251108T150753Z
UID:10848-1781893800-1781899200@theisseil.de
SUMMARY:Übungsschießen der SG Edelweiß Letzau
DESCRIPTION:von 18:30-20:00 Uhr
URL:https://theisseil.de/terminkalender/uebungsschiessen-der-sg-edelweiss-letzau/
LOCATION:DJK-Sportheim Letzau
END:VEVENT
BEGIN:VEVENT
DTSTART;TZID=UTC:20260620T170000
DTEND;TZID=UTC:20260620T200000
DTSTAMP:20260425T153320
CREATED:20260126T100650Z
LAST-MODIFIED:20260126T100650Z
UID:11524-1781974800-1781985600@theisseil.de
SUMMARY:Kinder- und Jugendprogramm: Erlebnistag im Schlupfwinkel mit Sonnwendfeuer
DESCRIPTION:Spiel und Spaß mit großem Feuer gegen Abend. (wetterabhängig!) – Anmeldung bei Beate oder Martina bis 13.06.
URL:https://theisseil.de/terminkalender/kinder-und-jugendprogramm-erlebnistag-im-schlupfwinkel-mit-sonnwendfeuer/
LOCATION:Erlebnisgarten Schlupfwinkel\, Hochstraße\, Letzau
END:VEVENT
BEGIN:VEVENT
DTSTART;TZID=UTC:20260703T183000
DTEND;TZID=UTC:20260703T200000
DTSTAMP:20260425T153320
CREATED:20251108T150831Z
LAST-MODIFIED:20251108T150831Z
UID:10850-1783103400-1783108800@theisseil.de
SUMMARY:Übungsschießen der SG Edelweiß Letzau
DESCRIPTION:von 18:30-20:00 Uhr
URL:https://theisseil.de/terminkalender/uebungsschiessen-der-sg-edelweiss-letzau-2/
LOCATION:DJK-Sportheim Letzau
END:VEVENT
BEGIN:VEVENT
DTSTART;TZID=UTC:20260704T100000
DTEND;TZID=UTC:20260704T120000
DTSTAMP:20260425T153320
CREATED:20260110T184815Z
LAST-MODIFIED:20260110T184815Z
UID:11376-1783159200-1783166400@theisseil.de
SUMMARY:FF Roschau - Arbeitsdienst
DESCRIPTION:
URL:https://theisseil.de/terminkalender/ff-roschau-arbeitsdienst-5/
LOCATION:Feuerwehrhaus Roschau\, Roschau 20\, Theisseil\, 92637\, Deutschland
ORGANIZER;CN="Feuerwehr Roschau":MAILTO:info@feuerwehr-roschau.de
END:VEVENT
BEGIN:VEVENT
DTSTART;TZID=UTC:20260704T190000
DTEND;TZID=UTC:20260704T233000
DTSTAMP:20260425T153320
CREATED:20260224T112815Z
LAST-MODIFIED:20260224T112815Z
UID:11685-1783191600-1783207800@theisseil.de
SUMMARY:Sommernachtsfest FF Letzau
DESCRIPTION:am Dorfweiher – Rund um das Feuerwehrhaus in Letzau / nähere Infos folgen
URL:https://theisseil.de/terminkalender/sommernachtsfest-ff-letzau/
LOCATION:Feuerwehrhaus Letzau
END:VEVENT
BEGIN:VEVENT
DTSTART;TZID=UTC:20260706T190000
DTEND;TZID=UTC:20260706T210000
DTSTAMP:20260425T153320
CREATED:20260126T085622Z
LAST-MODIFIED:20260126T085622Z
UID:11497-1783364400-1783371600@theisseil.de
SUMMARY:FF Letzau - Einsatzübung Anleitern
DESCRIPTION:Treffpunkt Feuerwehrgerätehaus
URL:https://theisseil.de/terminkalender/ff-letzau-einsatzuebung-anleitern/
LOCATION:Feuerwehrhaus Letzau
END:VEVENT
BEGIN:VEVENT
DTSTART;TZID=UTC:20260707T190000
DTEND;TZID=UTC:20260707T210000
DTSTAMP:20260425T153320
CREATED:20260110T184905Z
LAST-MODIFIED:20260110T184905Z
UID:11378-1783450800-1783458000@theisseil.de
SUMMARY:FF Roschau - Übung
DESCRIPTION:Löschangriff – Wasserentnahme Hydranten
URL:https://theisseil.de/terminkalender/ff-roschau-uebung-5/
LOCATION:Feuerwehrhaus Roschau\, Roschau 20\, Theisseil\, 92637\, Deutschland
ORGANIZER;CN="Feuerwehr Roschau":MAILTO:info@feuerwehr-roschau.de
END:VEVENT
END:VCALENDAR