BEGIN:VCALENDAR
VERSION:2.0
PRODID:-//Gemeinde Theisseil - ECPv6.15.12.2//NONSGML v1.0//EN
CALSCALE:GREGORIAN
METHOD:PUBLISH
X-ORIGINAL-URL:https://theisseil.de
X-WR-CALDESC:Veranstaltungen für Gemeinde Theisseil
REFRESH-INTERVAL;VALUE=DURATION:PT1H
X-Robots-Tag:noindex
X-PUBLISHED-TTL:PT1H
BEGIN:VTIMEZONE
TZID:UTC
BEGIN:STANDARD
TZOFFSETFROM:+0000
TZOFFSETTO:+0000
TZNAME:UTC
DTSTART:20230101T000000
END:STANDARD
END:VTIMEZONE
BEGIN:VEVENT
DTSTART;TZID=UTC:20240729T190000
DTEND;TZID=UTC:20240729T210000
DTSTAMP:20260420T140734
CREATED:20240202T094842Z
LAST-MODIFIED:20240202T094842Z
UID:8288-1722279600-1722286800@theisseil.de
SUMMARY:FFW Letzau - Einsatzübung
DESCRIPTION:Treffpunkt am FW-Gerätehaus
URL:https://theisseil.de/terminkalender/ffw-letzau-einsatzuebung-2/
LOCATION:Feuerwehrhaus Letzau
END:VEVENT
END:VCALENDAR